Package: spatialHeatmap Version: 2.4.0 Command: rm -rf spatialHeatmap.buildbin-libdir && mkdir spatialHeatmap.buildbin-libdir && /Users/biocbuild/BBS/utils/build-universal.sh spatialHeatmap_2.4.0.tar.gz /Library/Frameworks/R.framework/Resources/bin/R spatialHeatmap.buildbin-libdir StartedAt: 2023-04-18 19:48:15 -0400 (Tue, 18 Apr 2023) EndedAt: 2023-04-18 19:50:27 -0400 (Tue, 18 Apr 2023) EllapsedTime: 131.8 seconds RetCode: 0 Status: OK PackageFile: spatialHeatmap_2.4.0.tgz PackageFileSize: 21.72 MiB