Package: spicyR Version: 1.10.7 Command: rm -rf spicyR.buildbin-libdir && mkdir spicyR.buildbin-libdir && /Users/biocbuild/BBS/utils/build-universal.sh spicyR_1.10.7.tar.gz /Library/Frameworks/R.framework/Resources/bin/R spicyR.buildbin-libdir StartedAt: 2023-04-18 19:49:17 -0400 (Tue, 18 Apr 2023) EndedAt: 2023-04-18 19:50:56 -0400 (Tue, 18 Apr 2023) EllapsedTime: 98.6 seconds RetCode: 0 Status: OK PackageFile: spicyR_1.10.7.tgz PackageFileSize: 3.748 MiB