Package: spicyR Version: 1.10.7 Command: /Library/Frameworks/R.framework/Resources/bin/R CMD INSTALL spicyR StartedAt: 2023-04-16 15:14:56 -0400 (Sun, 16 Apr 2023) EndedAt: 2023-04-16 15:16:09 -0400 (Sun, 16 Apr 2023) EllapsedTime: 73.2 seconds RetCode: 0 Status: OK