Package: spqn Version: 1.10.0 Command: rm -rf spqn.buildbin-libdir && mkdir spqn.buildbin-libdir && /Users/biocbuild/BBS/utils/build-universal.sh spqn_1.10.0.tar.gz /Library/Frameworks/R.framework/Resources/bin/R spqn.buildbin-libdir StartedAt: 2023-04-18 19:52:36 -0400 (Tue, 18 Apr 2023) EndedAt: 2023-04-18 19:53:34 -0400 (Tue, 18 Apr 2023) EllapsedTime: 58.2 seconds RetCode: 0 Status: OK PackageFile: spqn_1.10.0.tgz PackageFileSize: 2.72 MiB