Package: sscu Version: 2.28.0 Command: rm -rf sscu.buildbin-libdir && mkdir sscu.buildbin-libdir && /Users/biocbuild/BBS/utils/build-universal.sh sscu_2.28.0.tar.gz /Library/Frameworks/R.framework/Resources/bin/R sscu.buildbin-libdir StartedAt: 2023-04-18 19:54:12 -0400 (Tue, 18 Apr 2023) EndedAt: 2023-04-18 19:54:43 -0400 (Tue, 18 Apr 2023) EllapsedTime: 30.9 seconds RetCode: 0 Status: OK PackageFile: sscu_2.28.0.tgz PackageFileSize: 1.37 MiB