Back to Mac ARM64 build report for BioC 3.16 |
|
This page was generated on 2023-04-19 11:01:52 -0400 (Wed, 19 Apr 2023).
Hostname | OS | Arch (*) | R version | Installed pkgs |
---|---|---|---|---|
kjohnson | macOS 13.0 Ventura | arm64 | 4.2.2 (2022-10-31) -- "Innocent and Trusting" | 4256 |
Click on any hostname to see more info about the system (e.g. compilers) (*) as reported by 'uname -p', except on Windows and Mac OS X |
To the developers/maintainers of the sva package: Make sure to use the following settings in order to reproduce any error or warning you see on this page. |
Package 1999/2183 | Hostname | OS / Arch | INSTALL | BUILD | BUILD BIN | ||||||||
sva 3.46.0 (landing page) Jeffrey T. Leek
| kjohnson | macOS 13.0 Ventura / arm64 | OK | OK | OK | ||||||||
QUICK STATS | OS / Arch | INSTALL | BUILD | BUILD BIN | |||||||||||||
kjohnson | macOS 13.0 Ventura / arm64 |
|
|
| |||||||||||||
Package 1/28 | Hostname | OS / Arch | INSTALL | BUILD | BUILD BIN | ||||||||||||
ASSIGN 1.34.0 (landing page) Ying Shen
| kjohnson | macOS 13.0 Ventura / arm64 | OK | OK | OK | ||||||||||||
Package 2/28 | Hostname | OS / Arch | INSTALL | BUILD | BUILD BIN | ||||||||||||
ballgown 2.30.0 (landing page) Jack Fu
| kjohnson | macOS 13.0 Ventura / arm64 | OK | OK | OK | ||||||||||||
Package 3/28 | Hostname | OS / Arch | INSTALL | BUILD | BUILD BIN | ||||||||||||
BatchQC 1.26.0 (landing page) Solaiappan Manimaran
| kjohnson | macOS 13.0 Ventura / arm64 | OK | OK | OK | ||||||||||||
Package 4/28 | Hostname | OS / Arch | INSTALL | BUILD | BUILD BIN | ||||||||||||
BioNERO 1.6.1 (landing page) Fabricio Almeida-Silva
| kjohnson | macOS 13.0 Ventura / arm64 | OK | OK | OK | ||||||||||||
Package 5/28 | Hostname | OS / Arch | INSTALL | BUILD | BUILD BIN | ||||||||||||
bnbc 1.20.0 (landing page) Kipper Fletez-Brant
| kjohnson | macOS 13.0 Ventura / arm64 | OK | OK | OK | ||||||||||||
Package 6/28 | Hostname | OS / Arch | INSTALL | BUILD | BUILD BIN | ||||||||||||
bnem 1.6.0 (landing page) Martin Pirkl
| kjohnson | macOS 13.0 Ventura / arm64 | OK | OK | OK | ||||||||||||
Package 7/28 | Hostname | OS / Arch | INSTALL | BUILD | BUILD BIN | ||||||||||||
ChAMP 2.28.0 (landing page) Yuan Tian
| kjohnson | macOS 13.0 Ventura / arm64 | OK | OK | OK | ||||||||||||
Package 8/28 | Hostname | OS / Arch | INSTALL | BUILD | BUILD BIN | ||||||||||||
crossmeta 1.24.0 (landing page) Alex Pickering
| kjohnson | macOS 13.0 Ventura / arm64 | OK | OK | OK | ||||||||||||
Package 9/28 | Hostname | OS / Arch | INSTALL | BUILD | BUILD BIN | ||||||||||||
Yuting Dai
| kjohnson | macOS 13.0 Ventura / arm64 | OK | OK | OK | ||||||||||||
Package 10/28 | Hostname | OS / Arch | INSTALL | BUILD | BUILD BIN | ||||||||||||
DaMiRseq 2.10.0 (landing page) Mattia Chiesa
| kjohnson | macOS 13.0 Ventura / arm64 | OK | OK | OK | ||||||||||||
Package 11/28 | Hostname | OS / Arch | INSTALL | BUILD | BUILD BIN | ||||||||||||
debrowser 1.26.3 (landing page) Alper Kucukural
| kjohnson | macOS 13.0 Ventura / arm64 | OK | OK | OK | ||||||||||||
Package 12/28 | Hostname | OS / Arch | INSTALL | BUILD | BUILD BIN | ||||||||||||
DeMixT 1.14.0 (landing page) Shuai Guo
| kjohnson | macOS 13.0 Ventura / arm64 | OK | OK | OK | ||||||||||||
Package 13/28 | Hostname | OS / Arch | INSTALL | BUILD | BUILD BIN | ||||||||||||
DExMA 1.6.0 (landing page) Juan Antonio Villatoro-GarcĂa
| kjohnson | macOS 13.0 Ventura / arm64 | OK | OK | OK | ||||||||||||
Package 14/28 | Hostname | OS / Arch | INSTALL | BUILD | BUILD BIN | ||||||||||||
doppelgangR 1.26.0 (landing page) Levi Waldron
| kjohnson | macOS 13.0 Ventura / arm64 | OK | OK | OK | ||||||||||||
Package 15/28 | Hostname | OS / Arch | INSTALL | BUILD | BUILD BIN | ||||||||||||
edge 2.30.0 (landing page) John D. Storey
| kjohnson | macOS 13.0 Ventura / arm64 | OK | OK | OK | ||||||||||||
Package 16/28 | Hostname | OS / Arch | INSTALL | BUILD | BUILD BIN | ||||||||||||
KnowSeq 1.12.0 (landing page) Daniel Castillo-Secilla
| kjohnson | macOS 13.0 Ventura / arm64 | OK | OK | OK | ||||||||||||
Package 17/28 | Hostname | OS / Arch | INSTALL | BUILD | BUILD BIN | ||||||||||||
MBECS 1.2.0 (landing page) Michael Olbrich
| kjohnson | macOS 13.0 Ventura / arm64 | OK | OK | OK | ||||||||||||
Package 18/28 | Hostname | OS / Arch | INSTALL | BUILD | BUILD BIN | ||||||||||||
MSPrep 1.8.0 (landing page) Max McGrath
| kjohnson | macOS 13.0 Ventura / arm64 | OK | OK | OK | ||||||||||||
Package 19/28 | Hostname | OS / Arch | INSTALL | BUILD | BUILD BIN | ||||||||||||
omicRexposome 1.20.0 (landing page) Xavier EscribĂ Montagut
| kjohnson | macOS 13.0 Ventura / arm64 | OK | OK | OK | ||||||||||||
Package 20/28 | Hostname | OS / Arch | INSTALL | BUILD | BUILD BIN | ||||||||||||
PAA 1.32.0 (landing page) Michael Turewicz
| kjohnson | macOS 13.0 Ventura / arm64 | OK | OK | OK | ||||||||||||
Package 21/28 | Hostname | OS / Arch | INSTALL | BUILD | BUILD BIN | ||||||||||||
proBatch 1.14.0 (landing page) Chloe H. Lee
| kjohnson | macOS 13.0 Ventura / arm64 | OK | OK | OK | ||||||||||||
Package 22/28 | Hostname | OS / Arch | INSTALL | BUILD | BUILD BIN | ||||||||||||
PROPS 1.20.0 (landing page) Lichy Han
| kjohnson | macOS 13.0 Ventura / arm64 | OK | OK | OK | ||||||||||||
Package 23/28 | Hostname | OS / Arch | INSTALL | BUILD | BUILD BIN | ||||||||||||
qsmooth 1.14.0 (landing page) Stephanie C. Hicks
| kjohnson | macOS 13.0 Ventura / arm64 | OK | OK | OK | ||||||||||||
Package 24/28 | Hostname | OS / Arch | INSTALL | BUILD | BUILD BIN | ||||||||||||
qsvaR 1.2.0 (landing page) Joshua Stolz
| kjohnson | macOS 13.0 Ventura / arm64 | OK | OK | OK | ||||||||||||
Package 25/28 | Hostname | OS / Arch | INSTALL | BUILD | BUILD BIN | ||||||||||||
SCAN.UPC 2.40.0 (landing page) Stephen R. Piccolo
| kjohnson | macOS 13.0 Ventura / arm64 | OK | OK | OK | ||||||||||||
Package 26/28 | Hostname | OS / Arch | INSTALL | BUILD | BUILD BIN | ||||||||||||
SEtools 1.12.0 (landing page) Pierre-Luc Germain
| kjohnson | macOS 13.0 Ventura / arm64 | OK | OK | OK | ||||||||||||
Package 27/28 | Hostname | OS / Arch | INSTALL | BUILD | BUILD BIN | ||||||||||||
singleCellTK 2.8.0 (landing page) Yichen Wang
| kjohnson | macOS 13.0 Ventura / arm64 | OK | OK | OK | ||||||||||||
Package 28/28 | Hostname | OS / Arch | INSTALL | BUILD | BUILD BIN | ||||||||||||
trigger 1.44.0 (landing page) John D. Storey
| kjohnson | macOS 13.0 Ventura / arm64 | OK | OK | OK | ||||||||||||