Package: synlet Version: 1.28.0 Command: /Library/Frameworks/R.framework/Resources/bin/R CMD build --keep-empty-dirs --no-resave-data synlet StartedAt: 2023-04-18 10:08:13 -0400 (Tue, 18 Apr 2023) EndedAt: 2023-04-18 10:08:45 -0400 (Tue, 18 Apr 2023) EllapsedTime: 32.8 seconds RetCode: 0 Status: OK PackageFile: synlet_1.28.0.tar.gz PackageFileSize: 1.366 MiB