Package: tanggle Version: 1.4.0 Command: rm -rf tanggle.buildbin-libdir && mkdir tanggle.buildbin-libdir && /Users/biocbuild/BBS/utils/build-universal.sh tanggle_1.4.0.tar.gz /Library/Frameworks/R.framework/Resources/bin/R tanggle.buildbin-libdir StartedAt: 2023-04-18 20:03:21 -0400 (Tue, 18 Apr 2023) EndedAt: 2023-04-18 20:03:38 -0400 (Tue, 18 Apr 2023) EllapsedTime: 16.5 seconds RetCode: 0 Status: OK PackageFile: tanggle_1.4.0.tgz PackageFileSize: 1.755 MiB