Package: ternarynet Version: 1.42.0 Command: rm -rf ternarynet.buildbin-libdir && mkdir ternarynet.buildbin-libdir && /Users/biocbuild/BBS/utils/build-universal.sh ternarynet_1.42.0.tar.gz /Library/Frameworks/R.framework/Resources/bin/R ternarynet.buildbin-libdir StartedAt: 2023-04-18 20:06:04 -0400 (Tue, 18 Apr 2023) EndedAt: 2023-04-18 20:06:31 -0400 (Tue, 18 Apr 2023) EllapsedTime: 27.0 seconds RetCode: 0 Status: OK PackageFile: ternarynet_1.42.0.tgz PackageFileSize: 555.5 KiB