Package: ternarynet Version: 1.42.0 Command: /Library/Frameworks/R.framework/Resources/bin/R CMD build --keep-empty-dirs --no-resave-data ternarynet StartedAt: 2023-04-18 10:29:31 -0400 (Tue, 18 Apr 2023) EndedAt: 2023-04-18 10:29:48 -0400 (Tue, 18 Apr 2023) EllapsedTime: 17.0 seconds RetCode: 0 Status: OK PackageFile: ternarynet_1.42.0.tar.gz PackageFileSize: 267 KiB