Package: terraTCGAdata Version: 1.2.0 Command: /Library/Frameworks/R.framework/Resources/bin/R CMD build --keep-empty-dirs --no-resave-data terraTCGAdata StartedAt: 2023-04-18 10:29:48 -0400 (Tue, 18 Apr 2023) EndedAt: 2023-04-18 10:30:31 -0400 (Tue, 18 Apr 2023) EllapsedTime: 42.9 seconds RetCode: 0 Status: OK PackageFile: terraTCGAdata_1.2.0.tar.gz PackageFileSize: 233.7 KiB