Package: tidySummarizedExperiment Version: 1.8.1 Command: /Library/Frameworks/R.framework/Resources/bin/R CMD build --keep-empty-dirs --no-resave-data tidySummarizedExperiment StartedAt: 2023-04-18 10:44:51 -0400 (Tue, 18 Apr 2023) EndedAt: 2023-04-18 10:45:47 -0400 (Tue, 18 Apr 2023) EllapsedTime: 56.0 seconds RetCode: 0 Status: OK PackageFile: tidySummarizedExperiment_1.8.1.tar.gz PackageFileSize: 419.8 KiB