Package: timecourse Version: 1.70.0 Command: rm -rf timecourse.buildbin-libdir && mkdir timecourse.buildbin-libdir && /Users/biocbuild/BBS/utils/build-universal.sh timecourse_1.70.0.tar.gz /Library/Frameworks/R.framework/Resources/bin/R timecourse.buildbin-libdir StartedAt: 2023-04-18 20:08:21 -0400 (Tue, 18 Apr 2023) EndedAt: 2023-04-18 20:08:38 -0400 (Tue, 18 Apr 2023) EllapsedTime: 17.2 seconds RetCode: 0 Status: OK PackageFile: timecourse_1.70.0.tgz PackageFileSize: 941.9 KiB