Package: timecourse Version: 1.70.0 Command: /Library/Frameworks/R.framework/Resources/bin/R CMD build --keep-empty-dirs --no-resave-data timecourse StartedAt: 2023-04-18 10:50:51 -0400 (Tue, 18 Apr 2023) EndedAt: 2023-04-18 10:51:14 -0400 (Tue, 18 Apr 2023) EllapsedTime: 23.5 seconds RetCode: 0 Status: OK PackageFile: timecourse_1.70.0.tar.gz PackageFileSize: 840.2 KiB