Package: timecourse Version: 1.70.0 Command: /Library/Frameworks/R.framework/Resources/bin/R CMD INSTALL timecourse StartedAt: 2023-04-16 14:21:28 -0400 (Sun, 16 Apr 2023) EndedAt: 2023-04-16 14:21:38 -0400 (Sun, 16 Apr 2023) EllapsedTime: 9.7 seconds RetCode: 0 Status: OK