Package: timescape Version: 1.22.0 Command: rm -rf timescape.buildbin-libdir && mkdir timescape.buildbin-libdir && /Users/biocbuild/BBS/utils/build-universal.sh timescape_1.22.0.tar.gz /Library/Frameworks/R.framework/Resources/bin/R timescape.buildbin-libdir StartedAt: 2023-04-18 20:08:28 -0400 (Tue, 18 Apr 2023) EndedAt: 2023-04-18 20:08:36 -0400 (Tue, 18 Apr 2023) EllapsedTime: 7.3 seconds RetCode: 0 Status: OK PackageFile: timescape_1.22.0.tgz PackageFileSize: 475.1 KiB