Package: timescape Version: 1.22.0 Command: /Library/Frameworks/R.framework/Resources/bin/R CMD build --keep-empty-dirs --no-resave-data timescape StartedAt: 2023-04-18 10:51:17 -0400 (Tue, 18 Apr 2023) EndedAt: 2023-04-18 10:51:25 -0400 (Tue, 18 Apr 2023) EllapsedTime: 7.8 seconds RetCode: 0 Status: OK PackageFile: timescape_1.22.0.tar.gz PackageFileSize: 672.5 KiB