Package: timescape Version: 1.22.0 Command: /Library/Frameworks/R.framework/Resources/bin/R CMD INSTALL timescape StartedAt: 2023-04-16 14:59:33 -0400 (Sun, 16 Apr 2023) EndedAt: 2023-04-16 14:59:37 -0400 (Sun, 16 Apr 2023) EllapsedTime: 4.4 seconds RetCode: 0 Status: OK