Package: tomoda Version: 1.8.0 Command: rm -rf tomoda.buildbin-libdir && mkdir tomoda.buildbin-libdir && /Users/biocbuild/BBS/utils/build-universal.sh tomoda_1.8.0.tar.gz /Library/Frameworks/R.framework/Resources/bin/R tomoda.buildbin-libdir StartedAt: 2023-04-18 20:10:36 -0400 (Tue, 18 Apr 2023) EndedAt: 2023-04-18 20:11:20 -0400 (Tue, 18 Apr 2023) EllapsedTime: 44.4 seconds RetCode: 0 Status: OK PackageFile: tomoda_1.8.0.tgz PackageFileSize: 2.632 MiB