Package: tomoda Version: 1.8.0 Command: /Library/Frameworks/R.framework/Resources/bin/R CMD build --keep-empty-dirs --no-resave-data tomoda StartedAt: 2023-04-18 11:02:27 -0400 (Tue, 18 Apr 2023) EndedAt: 2023-04-18 11:04:42 -0400 (Tue, 18 Apr 2023) EllapsedTime: 135.0 seconds RetCode: 0 Status: OK PackageFile: tomoda_1.8.0.tar.gz PackageFileSize: 2.57 MiB