Package: topconfects Version: 1.14.0 Command: rm -rf topconfects.buildbin-libdir && mkdir topconfects.buildbin-libdir && /Users/biocbuild/BBS/utils/build-universal.sh topconfects_1.14.0.tar.gz /Library/Frameworks/R.framework/Resources/bin/R topconfects.buildbin-libdir StartedAt: 2023-04-18 20:10:51 -0400 (Tue, 18 Apr 2023) EndedAt: 2023-04-18 20:11:04 -0400 (Tue, 18 Apr 2023) EllapsedTime: 12.4 seconds RetCode: 0 Status: OK PackageFile: topconfects_1.14.0.tgz PackageFileSize: 1.754 MiB