Package: tradeSeq Version: 1.12.0 Command: rm -rf tradeSeq.buildbin-libdir && mkdir tradeSeq.buildbin-libdir && /Users/biocbuild/BBS/utils/build-universal.sh tradeSeq_1.12.0.tar.gz /Library/Frameworks/R.framework/Resources/bin/R tradeSeq.buildbin-libdir StartedAt: 2023-04-18 20:11:59 -0400 (Tue, 18 Apr 2023) EndedAt: 2023-04-18 20:13:08 -0400 (Tue, 18 Apr 2023) EllapsedTime: 69.0 seconds RetCode: 0 Status: OK PackageFile: tradeSeq_1.12.0.tgz PackageFileSize: 4.642 MiB