Package: tradeSeq Version: 1.12.0 Command: /Library/Frameworks/R.framework/Resources/bin/R CMD build --keep-empty-dirs --no-resave-data tradeSeq StartedAt: 2023-04-18 11:12:29 -0400 (Tue, 18 Apr 2023) EndedAt: 2023-04-18 11:22:29 -0400 (Tue, 18 Apr 2023) EllapsedTime: 600.4 seconds RetCode: 0 Status: OK PackageFile: tradeSeq_1.12.0.tar.gz PackageFileSize: 5.083 MiB