Package: veloviz Version: 1.4.0 Command: rm -rf veloviz.buildbin-libdir && mkdir veloviz.buildbin-libdir && /Users/biocbuild/BBS/utils/build-universal.sh veloviz_1.4.0.tar.gz /Library/Frameworks/R.framework/Resources/bin/R veloviz.buildbin-libdir StartedAt: 2023-04-18 20:25:56 -0400 (Tue, 18 Apr 2023) EndedAt: 2023-04-18 20:26:28 -0400 (Tue, 18 Apr 2023) EllapsedTime: 31.5 seconds RetCode: 0 Status: OK PackageFile: veloviz_1.4.0.tgz PackageFileSize: 3.633 MiB