git_url: https://git.bioconductor.org/packages/vsclust git_branch: RELEASE_3_16 git_last_commit: 53f16ce git_last_commit_date: 2022-11-01 11:27:41 -0400 (Tue, 01 Nov 2022) Package: vsclust Version: 1.0.0 Maintainer: Veit Schwaemmle MaintainerEmail: veits at bmb.sdu.dk