Back to Mac ARM64 build report for BioC 3.16 |
|
This page was generated on 2023-04-19 11:01:53 -0400 (Wed, 19 Apr 2023).
Hostname | OS | Arch (*) | R version | Installed pkgs |
---|---|---|---|---|
kjohnson | macOS 13.0 Ventura | arm64 | 4.2.2 (2022-10-31) -- "Innocent and Trusting" | 4256 |
Click on any hostname to see more info about the system (e.g. compilers) (*) as reported by 'uname -p', except on Windows and Mac OS X |
To the developers/maintainers of the wateRmelon package: Make sure to use the following settings in order to reproduce any error or warning you see on this page. |
Package 2157/2183 | Hostname | OS / Arch | INSTALL | BUILD | BUILD BIN | ||||||||
wateRmelon 2.4.0 (landing page) Leo C Schalkwyk
| kjohnson | macOS 13.0 Ventura / arm64 | OK | OK | OK | ||||||||
QUICK STATS | OS / Arch | INSTALL | BUILD | BUILD BIN | |||||||||||||
kjohnson | macOS 13.0 Ventura / arm64 |
|
|
| |||||||||||||
Package 1/4 | Hostname | OS / Arch | INSTALL | BUILD | BUILD BIN | ||||||||||||
bigmelon 1.24.0 (landing page) Tyler J. Gorrie-Stone
| kjohnson | macOS 13.0 Ventura / arm64 | OK | OK | OK | ||||||||||||
Package 2/4 | Hostname | OS / Arch | INSTALL | BUILD | BUILD BIN | ||||||||||||
ChAMP 2.28.0 (landing page) Yuan Tian
| kjohnson | macOS 13.0 Ventura / arm64 | OK | OK | OK | ||||||||||||
Package 3/4 | Hostname | OS / Arch | INSTALL | BUILD | BUILD BIN | ||||||||||||
MEAT 1.10.0 (landing page) Sarah Voisin
| kjohnson | macOS 13.0 Ventura / arm64 | OK | OK | OK | ||||||||||||
Package 4/4 | Hostname | OS / Arch | INSTALL | BUILD | BUILD BIN | ||||||||||||
skewr 1.30.0 (landing page) Ryan Putney
| kjohnson | macOS 13.0 Ventura / arm64 | OK | OK | OK | ||||||||||||