Package: xcms Version: 3.20.0 Command: /Library/Frameworks/R.framework/Resources/bin/R CMD build --keep-empty-dirs --no-resave-data xcms StartedAt: 2023-04-18 13:03:39 -0400 (Tue, 18 Apr 2023) EndedAt: 2023-04-18 13:10:12 -0400 (Tue, 18 Apr 2023) EllapsedTime: 393.4 seconds RetCode: 0 Status: OK PackageFile: xcms_3.20.0.tar.gz PackageFileSize: 6.104 MiB