Package: xcms Version: 3.20.0 Command: /Library/Frameworks/R.framework/Resources/bin/R CMD INSTALL xcms StartedAt: 2023-04-16 15:13:52 -0400 (Sun, 16 Apr 2023) EndedAt: 2023-04-16 15:16:27 -0400 (Sun, 16 Apr 2023) EllapsedTime: 155.0 seconds RetCode: 0 Status: OK