Package: xcore Version: 1.2.0 Command: /Library/Frameworks/R.framework/Resources/bin/R CMD INSTALL xcore StartedAt: 2023-04-16 15:06:02 -0400 (Sun, 16 Apr 2023) EndedAt: 2023-04-16 15:06:33 -0400 (Sun, 16 Apr 2023) EllapsedTime: 31.6 seconds RetCode: 0 Status: OK