Package: zFPKM
Version: 1.20.0
Command: /Library/Frameworks/R.framework/Resources/bin/R CMD INSTALL zFPKM
StartedAt: 2023-04-16 15:06:13 -0400 (Sun, 16 Apr 2023)
EndedAt: 2023-04-16 15:06:44 -0400 (Sun, 16 Apr 2023)
EllapsedTime: 30.6 seconds
RetCode: 0
Status: OK