Package: EpiTxDb.Sc.sacCer3 Version: 0.99.5 Command: /home/biocbuild/bbs-3.16-bioc/R/bin/R CMD build --keep-empty-dirs --no-resave-data EpiTxDb.Sc.sacCer3 StartedAt: 2023-04-12 03:01:48 -0400 (Wed, 12 Apr 2023) EndedAt: 2023-04-12 03:03:06 -0400 (Wed, 12 Apr 2023) EllapsedTime: 77.5 seconds RetCode: 0 Status: OK PackageFile: EpiTxDb.Sc.sacCer3_0.99.5.tar.gz PackageFileSize: 289 KiB