Package: JASPAR2020 Version: 0.99.8 Command: /home/biocbuild/bbs-3.16-bioc/R/bin/R CMD check --install=check:JASPAR2020.install-out.txt --library=/home/biocbuild/bbs-3.16-bioc/R/site-library --timings JASPAR2020_0.99.8.tar.gz StartedAt: 2023-04-12 03:05:04 -0400 (Wed, 12 Apr 2023) EndedAt: 2023-04-12 03:06:05 -0400 (Wed, 12 Apr 2023) EllapsedTime: 61.7 seconds RetCode: 0 Status: OK CheckDir: JASPAR2020.Rcheck Warnings: 0