Package: hpAnnot Version: 1.1.0 Command: /home/biocbuild/bbs-3.16-bioc/R/bin/R CMD build --keep-empty-dirs --no-resave-data hpAnnot StartedAt: 2023-04-12 03:02:14 -0400 (Wed, 12 Apr 2023) EndedAt: 2023-04-12 03:02:53 -0400 (Wed, 12 Apr 2023) EllapsedTime: 38.9 seconds RetCode: 0 Status: OK PackageFile: hpAnnot_1.1.0.tar.gz PackageFileSize: 228.8 MiB