Package: scAnnotatR.models Version: 0.99.10 Command: /home/biocbuild/bbs-3.16-bioc/R/bin/R CMD build --keep-empty-dirs --no-resave-data scAnnotatR.models StartedAt: 2023-04-12 03:03:07 -0400 (Wed, 12 Apr 2023) EndedAt: 2023-04-12 03:03:42 -0400 (Wed, 12 Apr 2023) EllapsedTime: 35.3 seconds RetCode: 1 Status: ERROR PackageFile: None PackageFileSize: NA