Package: synaptome.db Version: 0.99.12 Command: /home/biocbuild/bbs-3.16-bioc/R/bin/R CMD build --keep-empty-dirs --no-resave-data synaptome.db StartedAt: 2023-04-12 03:03:12 -0400 (Wed, 12 Apr 2023) EndedAt: 2023-04-12 03:04:31 -0400 (Wed, 12 Apr 2023) EllapsedTime: 78.7 seconds RetCode: 0 Status: OK PackageFile: synaptome.db_0.99.12.tar.gz PackageFileSize: 193.7 KiB