Package: synaptome.db Version: 0.99.12 Command: /home/biocbuild/bbs-3.16-bioc/R/bin/R CMD INSTALL synaptome.db StartedAt: 2023-04-12 03:00:39 -0400 (Wed, 12 Apr 2023) EndedAt: 2023-04-12 03:01:21 -0400 (Wed, 12 Apr 2023) EllapsedTime: 41.4 seconds RetCode: 0 Status: OK