Package: BeadSorted.Saliva.EPIC Version: 1.6.0 Command: /home/biocbuild/bbs-3.16-bioc/R/bin/R CMD INSTALL BeadSorted.Saliva.EPIC StartedAt: 2023-04-11 10:10:02 -0400 (Tue, 11 Apr 2023) EndedAt: 2023-04-11 10:11:21 -0400 (Tue, 11 Apr 2023) EllapsedTime: 79.5 seconds RetCode: 0 Status: OK