Package: BioImageDbs
Version: 1.6.0
Command: /home/biocbuild/bbs-3.16-bioc/R/bin/R CMD build --keep-empty-dirs --no-resave-data BioImageDbs
StartedAt: 2023-04-11 10:19:15 -0400 (Tue, 11 Apr 2023)
EndedAt: 2023-04-11 10:23:28 -0400 (Tue, 11 Apr 2023)
EllapsedTime: 253.8 seconds
RetCode: 0
Status: OK
PackageFile: BioImageDbs_1.6.0.tar.gz
PackageFileSize: 44.17 <A href="http://en.wikipedia.org/wiki/MiB" target="_blank">MiB</A>