Package: CellMapperData Version: 1.24.0 Command: /home/biocbuild/bbs-3.16-bioc/R/bin/R CMD build --keep-empty-dirs --no-resave-data CellMapperData StartedAt: 2023-04-11 10:22:21 -0400 (Tue, 11 Apr 2023) EndedAt: 2023-04-11 10:22:56 -0400 (Tue, 11 Apr 2023) EllapsedTime: 34.8 seconds RetCode: 0 Status: OK PackageFile: CellMapperData_1.24.0.tar.gz PackageFileSize: 140.1 KiB