Package: DLBCL Version: 1.38.0 Command: /home/biocbuild/bbs-3.16-bioc/R/bin/R CMD INSTALL DLBCL StartedAt: 2023-04-11 10:01:36 -0400 (Tue, 11 Apr 2023) EndedAt: 2023-04-11 10:01:38 -0400 (Tue, 11 Apr 2023) EllapsedTime: 2.6 seconds RetCode: 0 Status: OK