Package: EpiMix.data Version: 1.0.0 Command: /home/biocbuild/bbs-3.16-bioc/R/bin/R CMD check --install=check:EpiMix.data.install-out.txt --library=/home/biocbuild/bbs-3.16-bioc/R/site-library --timings EpiMix.data_1.0.0.tar.gz StartedAt: 2023-03-30 11:32:11 -0400 (Thu, 30 Mar 2023) EndedAt: 2023-03-30 11:33:44 -0400 (Thu, 30 Mar 2023) EllapsedTime: 93.4 seconds RetCode: 0 Status: OK CheckDir: EpiMix.data.Rcheck Warnings: 0