Package: GSE13015 Version: 1.6.0 Command: /home/biocbuild/bbs-3.16-bioc/R/bin/R CMD build --keep-empty-dirs --no-resave-data GSE13015 StartedAt: 2023-04-11 10:36:51 -0400 (Tue, 11 Apr 2023) EndedAt: 2023-04-11 10:37:14 -0400 (Tue, 11 Apr 2023) EllapsedTime: 23.4 seconds RetCode: 0 Status: OK PackageFile: GSE13015_1.6.0.tar.gz PackageFileSize: 218.5 KiB