Package: GSE13015 Version: 1.6.0 Command: /home/biocbuild/bbs-3.16-bioc/R/bin/R CMD check --install=check:GSE13015.install-out.txt --library=/home/biocbuild/bbs-3.16-bioc/R/site-library --timings GSE13015_1.6.0.tar.gz StartedAt: 2023-04-11 11:49:26 -0400 (Tue, 11 Apr 2023) EndedAt: 2023-04-11 11:50:17 -0400 (Tue, 11 Apr 2023) EllapsedTime: 51.7 seconds RetCode: 0 Status: OK CheckDir: GSE13015.Rcheck Warnings: 0