Package: GenomicDistributionsData Version: 1.6.0 Command: /home/biocbuild/bbs-3.16-bioc/R/bin/R CMD INSTALL GenomicDistributionsData StartedAt: 2023-04-11 10:09:05 -0400 (Tue, 11 Apr 2023) EndedAt: 2023-04-11 10:10:17 -0400 (Tue, 11 Apr 2023) EllapsedTime: 72.4 seconds RetCode: 0 Status: OK