Package: HiCDataLymphoblast Version: 1.34.0 Command: /home/biocbuild/bbs-3.16-bioc/R/bin/R CMD build --keep-empty-dirs --no-resave-data HiCDataLymphoblast StartedAt: 2023-04-11 10:39:49 -0400 (Tue, 11 Apr 2023) EndedAt: 2023-04-11 10:40:13 -0400 (Tue, 11 Apr 2023) EllapsedTime: 24.2 seconds RetCode: 0 Status: OK PackageFile: HiCDataLymphoblast_1.34.0.tar.gz PackageFileSize: 16.41 MiB