Package: HighlyReplicatedRNASeq Version: 1.10.0 Command: /home/biocbuild/bbs-3.16-bioc/R/bin/R CMD INSTALL HighlyReplicatedRNASeq StartedAt: 2023-04-11 10:07:18 -0400 (Tue, 11 Apr 2023) EndedAt: 2023-04-11 10:07:50 -0400 (Tue, 11 Apr 2023) EllapsedTime: 32.1 seconds RetCode: 0 Status: OK