Package: HumanAffyData Version: 1.24.0 Command: /home/biocbuild/bbs-3.16-bioc/R/bin/R CMD build --keep-empty-dirs --no-resave-data HumanAffyData StartedAt: 2023-04-11 10:40:34 -0400 (Tue, 11 Apr 2023) EndedAt: 2023-04-11 10:40:55 -0400 (Tue, 11 Apr 2023) EllapsedTime: 21.6 seconds RetCode: 0 Status: OK PackageFile: HumanAffyData_1.24.0.tar.gz PackageFileSize: 150.4 KiB