Package: HumanAffyData Version: 1.24.0 Command: /home/biocbuild/bbs-3.16-bioc/R/bin/R CMD check --install=check:HumanAffyData.install-out.txt --library=/home/biocbuild/bbs-3.16-bioc/R/site-library --timings HumanAffyData_1.24.0.tar.gz StartedAt: 2023-04-11 11:53:44 -0400 (Tue, 11 Apr 2023) EndedAt: 2023-04-11 11:54:49 -0400 (Tue, 11 Apr 2023) EllapsedTime: 65.1 seconds RetCode: 0 Status: OK CheckDir: HumanAffyData.Rcheck Warnings: 0