Package: ITALICSData Version: 2.36.0 Command: /home/biocbuild/bbs-3.16-bioc/R/bin/R CMD INSTALL ITALICSData StartedAt: 2023-04-11 10:00:41 -0400 (Tue, 11 Apr 2023) EndedAt: 2023-04-11 10:00:44 -0400 (Tue, 11 Apr 2023) EllapsedTime: 2.5 seconds RetCode: 0 Status: OK