Package: MUGAExampleData Version: 1.18.0 Command: /home/biocbuild/bbs-3.16-bioc/R/bin/R CMD build --keep-empty-dirs --no-resave-data MUGAExampleData StartedAt: 2023-04-11 10:46:11 -0400 (Tue, 11 Apr 2023) EndedAt: 2023-04-11 10:46:21 -0400 (Tue, 11 Apr 2023) EllapsedTime: 9.3 seconds RetCode: 0 Status: OK PackageFile: MUGAExampleData_1.18.0.tar.gz PackageFileSize: 88.54 MiB